Package: PoDCall Version: 1.14.0 Command: /home/biocbuild/R/R/bin/R CMD build --keep-empty-dirs --no-resave-data PoDCall StartedAt: 2025-01-31 01:49:05 -0000 (Fri, 31 Jan 2025) EndedAt: 2025-01-31 01:49:30 -0000 (Fri, 31 Jan 2025) EllapsedTime: 25.0 seconds RetCode: 0 Status: OK PackageFile: PoDCall_1.14.0.tar.gz PackageFileSize: 2.295 MiB