Package: PolySTest Version: 1.0.2 Command: /Library/Frameworks/R.framework/Resources/bin/R CMD build --keep-empty-dirs --no-resave-data PolySTest StartedAt: 2025-02-04 05:39:53 -0500 (Tue, 04 Feb 2025) EndedAt: 2025-02-04 05:42:01 -0500 (Tue, 04 Feb 2025) EllapsedTime: 127.9 seconds RetCode: 0 Status: OK PackageFile: PolySTest_1.0.2.tar.gz PackageFileSize: 2.161 MiB