Package: PolySTest Version: 1.0.2 Command: /Library/Frameworks/R.framework/Resources/bin/R CMD check --install=check:PolySTest.install-out.txt --library=/Library/Frameworks/R.framework/Resources/library --no-vignettes --timings PolySTest_1.0.2.tar.gz StartedAt: 2025-02-05 05:45:13 -0500 (Wed, 05 Feb 2025) EndedAt: 2025-02-05 05:53:49 -0500 (Wed, 05 Feb 2025) EllapsedTime: 516.1 seconds RetCode: 0 Status: WARNINGS CheckDir: PolySTest.Rcheck Warnings: 1