Package: PolySTest Version: 1.0.2 Command: rm -rf PolySTest.buildbin-libdir && mkdir PolySTest.buildbin-libdir && /Users/biocbuild/BBS/utils/build-universal.sh PolySTest_1.0.2.tar.gz /Library/Frameworks/R.framework/Resources/bin/R PolySTest.buildbin-libdir StartedAt: 2025-01-31 13:24:00 -0500 (Fri, 31 Jan 2025) EndedAt: 2025-01-31 13:24:58 -0500 (Fri, 31 Jan 2025) EllapsedTime: 57.9 seconds RetCode: 0 Status: OK PackageFile: PolySTest_1.0.2.tgz PackageFileSize: 2.275 MiB