Package: PolySTest Version: 1.0.2 Command: /Library/Frameworks/R.framework/Resources/bin/R CMD build --keep-empty-dirs --no-resave-data PolySTest StartedAt: 2025-02-03 21:21:19 -0500 (Mon, 03 Feb 2025) EndedAt: 2025-02-03 21:25:12 -0500 (Mon, 03 Feb 2025) EllapsedTime: 232.3 seconds RetCode: 0 Status: OK PackageFile: PolySTest_1.0.2.tar.gz PackageFileSize: 2.16 MiB