Package: PolySTest Version: 1.0.2 Command: /Library/Frameworks/R.framework/Resources/bin/R CMD check --install=check:PolySTest.install-out.txt --library=/Library/Frameworks/R.framework/Resources/library --no-vignettes --timings PolySTest_1.0.2.tar.gz StartedAt: 2025-02-04 08:08:22 -0500 (Tue, 04 Feb 2025) EndedAt: 2025-02-04 08:26:09 -0500 (Tue, 04 Feb 2025) EllapsedTime: 1067.7 seconds RetCode: 0 Status: WARNINGS CheckDir: PolySTest.Rcheck Warnings: 1