Package: PolySTest Version: 1.0.2 Command: /Library/Frameworks/R.framework/Resources/bin/R CMD INSTALL PolySTest StartedAt: 2025-02-03 16:33:52 -0500 (Mon, 03 Feb 2025) EndedAt: 2025-02-03 16:34:48 -0500 (Mon, 03 Feb 2025) EllapsedTime: 55.5 seconds RetCode: 0 Status: OK