Package: PolySTest Version: 1.0.2 Command: /home/biocbuild/bbs-3.20-bioc/R/bin/R CMD INSTALL PolySTest StartedAt: 2025-02-03 15:59:57 -0500 (Mon, 03 Feb 2025) EndedAt: 2025-02-03 16:00:25 -0500 (Mon, 03 Feb 2025) EllapsedTime: 28.0 seconds RetCode: 0 Status: OK