Package: PolySTest Version: 1.0.2 Command: F:\biocbuild\bbs-3.20-bioc\R\bin\R.exe CMD INSTALL PolySTest StartedAt: 2025-02-03 16:18:16 -0500 (Mon, 03 Feb 2025) EndedAt: 2025-02-03 16:19:02 -0500 (Mon, 03 Feb 2025) EllapsedTime: 46.2 seconds RetCode: 0 Status: OK