Package: PolySTest Version: 1.0.2 Command: /home/biocbuild/R/R/bin/R CMD build --keep-empty-dirs --no-resave-data PolySTest StartedAt: 2025-01-31 01:49:20 -0000 (Fri, 31 Jan 2025) EndedAt: 2025-01-31 01:51:30 -0000 (Fri, 31 Jan 2025) EllapsedTime: 130.1 seconds RetCode: 0 Status: OK PackageFile: PolySTest_1.0.2.tar.gz PackageFileSize: 2.468 MiB