Package: PolySTest Version: 1.0.2 Command: /home/biocbuild/R/R/bin/R CMD check --install=check:PolySTest.install-out.txt --library=/home/biocbuild/R/R/site-library --no-vignettes --timings PolySTest_1.0.2.tar.gz StartedAt: 2025-02-04 09:56:08 -0000 (Tue, 04 Feb 2025) EndedAt: 2025-02-04 10:05:30 -0000 (Tue, 04 Feb 2025) EllapsedTime: 561.7 seconds RetCode: 0 Status: WARNINGS CheckDir: PolySTest.Rcheck Warnings: 1