Package: PolySTest Version: 1.0.2 Command: /home/biocbuild/R/R/bin/R CMD INSTALL PolySTest StartedAt: 2025-02-03 21:14:32 -0000 (Mon, 03 Feb 2025) EndedAt: 2025-02-03 21:15:04 -0000 (Mon, 03 Feb 2025) EllapsedTime: 32.1 seconds RetCode: 0 Status: OK