Package: PrInCE Version: 1.22.0 Command: /Library/Frameworks/R.framework/Resources/bin/R CMD check --install=check:PrInCE.install-out.txt --library=/Library/Frameworks/R.framework/Resources/library --no-vignettes --timings PrInCE_1.22.0.tar.gz StartedAt: 2025-02-05 05:54:26 -0500 (Wed, 05 Feb 2025) EndedAt: 2025-02-05 06:00:01 -0500 (Wed, 05 Feb 2025) EllapsedTime: 335.2 seconds RetCode: 0 Status: WARNINGS CheckDir: PrInCE.Rcheck Warnings: 1