Package: PrInCE
Version: 1.22.0
Command: /Library/Frameworks/R.framework/Resources/bin/R CMD INSTALL PrInCE
StartedAt: 2025-02-17 16:05:54 -0500 (Mon, 17 Feb 2025)
EndedAt: 2025-02-17 16:07:41 -0500 (Mon, 17 Feb 2025)
EllapsedTime: 106.9 seconds
RetCode: 0
Status: OK