Package: PrInCE Version: 1.22.0 Command: F:\biocbuild\bbs-3.20-bioc\R\bin\R.exe CMD check --no-multiarch --install=check:PrInCE.install-out.txt --library=F:\biocbuild\bbs-3.20-bioc\R\library --no-vignettes --timings PrInCE_1.22.0.tar.gz StartedAt: 2025-02-04 05:02:09 -0500 (Tue, 04 Feb 2025) EndedAt: 2025-02-04 05:07:58 -0500 (Tue, 04 Feb 2025) EllapsedTime: 348.9 seconds RetCode: 0 Status: WARNINGS CheckDir: PrInCE.Rcheck Warnings: 1