Package: ProtGenerics Version: 1.38.0 Command: /Library/Frameworks/R.framework/Resources/bin/R CMD build --keep-empty-dirs --no-resave-data ProtGenerics StartedAt: 2025-01-30 21:58:50 -0500 (Thu, 30 Jan 2025) EndedAt: 2025-01-30 21:58:52 -0500 (Thu, 30 Jan 2025) EllapsedTime: 2.1 seconds RetCode: 0 Status: OK PackageFile: ProtGenerics_1.38.0.tar.gz PackageFileSize: 9.978 KiB