Package: ProtGenerics Version: 1.38.0 Command: /Library/Frameworks/R.framework/Resources/bin/R CMD check --install=check:ProtGenerics.install-out.txt --library=/Library/Frameworks/R.framework/Resources/library --no-vignettes --timings ProtGenerics_1.38.0.tar.gz StartedAt: 2025-01-31 08:21:55 -0500 (Fri, 31 Jan 2025) EndedAt: 2025-01-31 08:22:36 -0500 (Fri, 31 Jan 2025) EllapsedTime: 41.2 seconds RetCode: 0 Status: OK CheckDir: ProtGenerics.Rcheck Warnings: 0