Package: ProtGenerics Version: 1.38.0 Command: /Library/Frameworks/R.framework/Resources/bin/R CMD INSTALL ProtGenerics StartedAt: 2025-01-30 15:10:41 -0500 (Thu, 30 Jan 2025) EndedAt: 2025-01-30 15:11:16 -0500 (Thu, 30 Jan 2025) EllapsedTime: 35.9 seconds RetCode: 0 Status: OK