Package: ProtGenerics Version: 1.38.0 Command: /home/biocbuild/bbs-3.20-bioc/R/bin/R CMD INSTALL ProtGenerics StartedAt: 2025-02-03 15:16:13 -0500 (Mon, 03 Feb 2025) EndedAt: 2025-02-03 15:16:30 -0500 (Mon, 03 Feb 2025) EllapsedTime: 16.8 seconds RetCode: 0 Status: OK