Package: ProtGenerics Version: 1.38.0 Command: rm -rf ProtGenerics.buildbin-libdir && mkdir ProtGenerics.buildbin-libdir && F:\biocbuild\bbs-3.20-bioc\R\bin\R.exe CMD INSTALL --build --library=ProtGenerics.buildbin-libdir ProtGenerics_1.38.0.tar.gz StartedAt: 2025-01-31 09:19:39 -0500 (Fri, 31 Jan 2025) EndedAt: 2025-01-31 09:22:48 -0500 (Fri, 31 Jan 2025) EllapsedTime: 189.5 seconds RetCode: 0 Status: OK PackageFile: ProtGenerics_1.38.0.zip PackageFileSize: 240.6 KiB