Package: ProtGenerics Version: 1.38.0 Command: F:\biocbuild\bbs-3.20-bioc\R\bin\R.exe CMD INSTALL ProtGenerics StartedAt: 2025-01-30 15:24:37 -0500 (Thu, 30 Jan 2025) EndedAt: 2025-01-30 15:27:07 -0500 (Thu, 30 Jan 2025) EllapsedTime: 149.9 seconds RetCode: 0 Status: OK