Package: ProtGenerics Version: 1.38.0 Command: /home/biocbuild/R/R/bin/R CMD build --keep-empty-dirs --no-resave-data ProtGenerics StartedAt: 2025-02-04 01:58:27 -0000 (Tue, 04 Feb 2025) EndedAt: 2025-02-04 01:58:28 -0000 (Tue, 04 Feb 2025) EllapsedTime: 1.0 seconds RetCode: 0 Status: OK PackageFile: ProtGenerics_1.38.0.tar.gz PackageFileSize: 9.973 KiB