Package: ProtGenerics Version: 1.38.0 Command: /home/biocbuild/R/R/bin/R CMD INSTALL ProtGenerics StartedAt: 2025-02-03 20:25:08 -0000 (Mon, 03 Feb 2025) EndedAt: 2025-02-03 20:25:42 -0000 (Mon, 03 Feb 2025) EllapsedTime: 34.0 seconds RetCode: 0 Status: OK