Package: ProteoDisco Version: 1.12.0 Command: /Library/Frameworks/R.framework/Resources/bin/R CMD build --keep-empty-dirs --no-resave-data ProteoDisco StartedAt: 2025-02-04 05:51:04 -0500 (Tue, 04 Feb 2025) EndedAt: 2025-02-04 05:53:56 -0500 (Tue, 04 Feb 2025) EllapsedTime: 172.0 seconds RetCode: 1 Status: ERROR PackageFile: None PackageFileSize: NA