Package: ProteoDisco Version: 1.12.0 Command: /Library/Frameworks/R.framework/Resources/bin/R CMD INSTALL ProteoDisco StartedAt: 2025-02-03 16:02:31 -0500 (Mon, 03 Feb 2025) EndedAt: 2025-02-03 16:03:35 -0500 (Mon, 03 Feb 2025) EllapsedTime: 63.9 seconds RetCode: 0 Status: OK