Package: ProteoDisco Version: 1.12.0 Command: /Library/Frameworks/R.framework/Resources/bin/R CMD build --keep-empty-dirs --no-resave-data ProteoDisco StartedAt: 2025-02-03 21:25:41 -0500 (Mon, 03 Feb 2025) EndedAt: 2025-02-03 21:30:47 -0500 (Mon, 03 Feb 2025) EllapsedTime: 306.2 seconds RetCode: 1 Status: ERROR PackageFile: None PackageFileSize: NA