Package: ProteoDisco Version: 1.12.0 Command: /Library/Frameworks/R.framework/Resources/bin/R CMD INSTALL ProteoDisco StartedAt: 2025-02-03 15:47:54 -0500 (Mon, 03 Feb 2025) EndedAt: 2025-02-03 15:49:44 -0500 (Mon, 03 Feb 2025) EllapsedTime: 109.9 seconds RetCode: 0 Status: OK