Package: ProteoDisco Version: 1.12.0 Command: /home/biocbuild/bbs-3.20-bioc/R/bin/R CMD build --keep-empty-dirs --no-resave-data --md5 ProteoDisco StartedAt: 2025-02-03 18:48:25 -0500 (Mon, 03 Feb 2025) EndedAt: 2025-02-03 18:50:48 -0500 (Mon, 03 Feb 2025) EllapsedTime: 143.2 seconds RetCode: 0 Status: OK PackageFile: ProteoDisco_1.12.0.tar.gz PackageFileSize: 513.8 KiB