Package: ProteoDisco Version: 1.12.0 Command: /home/biocbuild/bbs-3.20-bioc/R/bin/R CMD check --install=check:ProteoDisco.install-out.txt --library=/home/biocbuild/bbs-3.20-bioc/R/site-library --timings ProteoDisco_1.12.0.tar.gz StartedAt: 2025-02-04 01:24:41 -0500 (Tue, 04 Feb 2025) EndedAt: 2025-02-04 01:33:46 -0500 (Tue, 04 Feb 2025) EllapsedTime: 545.5 seconds RetCode: 0 Status: WARNINGS CheckDir: ProteoDisco.Rcheck Warnings: 2