Package: ProteoDisco Version: 1.12.0 Command: rm -rf ProteoDisco.buildbin-libdir && mkdir ProteoDisco.buildbin-libdir && F:\biocbuild\bbs-3.20-bioc\R\bin\R.exe CMD INSTALL --build --library=ProteoDisco.buildbin-libdir ProteoDisco_1.12.0.tar.gz StartedAt: 2025-02-04 09:13:38 -0500 (Tue, 04 Feb 2025) EndedAt: 2025-02-04 09:15:10 -0500 (Tue, 04 Feb 2025) EllapsedTime: 92.4 seconds RetCode: 0 Status: OK PackageFile: ProteoDisco_1.12.0.zip PackageFileSize: 881.6 KiB