Package: ProteoDisco Version: 1.12.0 Command: /home/biocbuild/R/R/bin/R CMD INSTALL ProteoDisco StartedAt: 2025-02-03 20:44:00 -0000 (Mon, 03 Feb 2025) EndedAt: 2025-02-03 20:45:05 -0000 (Mon, 03 Feb 2025) EllapsedTime: 64.8 seconds RetCode: 0 Status: OK