Package: PureCN Version: 2.12.0 Command: /Library/Frameworks/R.framework/Resources/bin/R CMD build --keep-empty-dirs --no-resave-data PureCN StartedAt: 2025-01-30 21:59:38 -0500 (Thu, 30 Jan 2025) EndedAt: 2025-01-30 22:10:20 -0500 (Thu, 30 Jan 2025) EllapsedTime: 641.7 seconds RetCode: 0 Status: OK PackageFile: PureCN_2.12.0.tar.gz PackageFileSize: 5.722 MiB