Package: Pviz Version: 1.40.0 Command: /Library/Frameworks/R.framework/Resources/bin/R CMD check --install=check:Pviz.install-out.txt --library=/Library/Frameworks/R.framework/Resources/library --no-vignettes --timings Pviz_1.40.0.tar.gz StartedAt: 2025-02-12 05:40:49 -0500 (Wed, 12 Feb 2025) EndedAt: 2025-02-12 05:47:03 -0500 (Wed, 12 Feb 2025) EllapsedTime: 373.3 seconds RetCode: 0 Status: WARNINGS CheckDir: Pviz.Rcheck Warnings: 1