Package: Pviz Version: 1.40.0 Command: /Library/Frameworks/R.framework/Resources/bin/R CMD build --keep-empty-dirs --no-resave-data Pviz StartedAt: 2025-02-10 21:29:20 -0500 (Mon, 10 Feb 2025) EndedAt: 2025-02-10 21:33:01 -0500 (Mon, 10 Feb 2025) EllapsedTime: 220.6 seconds RetCode: 0 Status: OK PackageFile: Pviz_1.40.0.tar.gz PackageFileSize: 203.1 KiB