Package: Pviz Version: 1.40.0 Command: /Library/Frameworks/R.framework/Resources/bin/R CMD check --install=check:Pviz.install-out.txt --library=/Library/Frameworks/R.framework/Resources/library --no-vignettes --timings Pviz_1.40.0.tar.gz StartedAt: 2025-02-11 08:42:41 -0500 (Tue, 11 Feb 2025) EndedAt: 2025-02-11 08:53:16 -0500 (Tue, 11 Feb 2025) EllapsedTime: 634.6 seconds RetCode: 0 Status: WARNINGS CheckDir: Pviz.Rcheck Warnings: 1