Package: Pviz Version: 1.40.0 Command: rm -rf Pviz.buildbin-libdir && mkdir Pviz.buildbin-libdir && F:\biocbuild\bbs-3.20-bioc\R\bin\R.exe CMD INSTALL --build --library=Pviz.buildbin-libdir Pviz_1.40.0.tar.gz StartedAt: 2025-02-04 09:14:05 -0500 (Tue, 04 Feb 2025) EndedAt: 2025-02-04 09:15:40 -0500 (Tue, 04 Feb 2025) EllapsedTime: 95.1 seconds RetCode: 0 Status: OK PackageFile: Pviz_1.40.0.zip PackageFileSize: 672.7 KiB