Package: Pviz Version: 1.40.0 Command: F:\biocbuild\bbs-3.20-bioc\R\bin\R.exe CMD check --no-multiarch --install=check:Pviz.install-out.txt --library=F:\biocbuild\bbs-3.20-bioc\R\library --no-vignettes --timings Pviz_1.40.0.tar.gz StartedAt: 2025-02-11 05:04:27 -0500 (Tue, 11 Feb 2025) EndedAt: 2025-02-11 05:10:40 -0500 (Tue, 11 Feb 2025) EllapsedTime: 373.2 seconds RetCode: 0 Status: WARNINGS CheckDir: Pviz.Rcheck Warnings: 1