Package: QDNAseq Version: 1.42.0 Command: /home/biocbuild/bbs-3.20-bioc/R/bin/R CMD INSTALL QDNAseq StartedAt: 2025-02-03 15:29:52 -0500 (Mon, 03 Feb 2025) EndedAt: 2025-02-03 15:30:11 -0500 (Mon, 03 Feb 2025) EllapsedTime: 19.1 seconds RetCode: 0 Status: OK