Package: QFeatures Version: 1.16.0 Command: /Library/Frameworks/R.framework/Resources/bin/R CMD INSTALL QFeatures StartedAt: 2025-01-30 16:51:03 -0500 (Thu, 30 Jan 2025) EndedAt: 2025-01-30 16:51:38 -0500 (Thu, 30 Jan 2025) EllapsedTime: 34.7 seconds RetCode: 0 Status: OK