Package: QFeatures Version: 1.16.0 Command: rm -rf QFeatures.buildbin-libdir && mkdir QFeatures.buildbin-libdir && /Users/biocbuild/BBS/utils/build-universal.sh QFeatures_1.16.0.tar.gz /Library/Frameworks/R.framework/Resources/bin/R QFeatures.buildbin-libdir StartedAt: 2025-01-31 13:26:08 -0500 (Fri, 31 Jan 2025) EndedAt: 2025-01-31 13:27:20 -0500 (Fri, 31 Jan 2025) EllapsedTime: 72.1 seconds RetCode: 0 Status: OK PackageFile: QFeatures_1.16.0.tgz PackageFileSize: 3.348 MiB