Package: QFeatures Version: 1.16.0 Command: /Library/Frameworks/R.framework/Resources/bin/R CMD build --keep-empty-dirs --no-resave-data QFeatures StartedAt: 2025-01-30 22:01:26 -0500 (Thu, 30 Jan 2025) EndedAt: 2025-01-30 22:04:23 -0500 (Thu, 30 Jan 2025) EllapsedTime: 176.4 seconds RetCode: 0 Status: OK PackageFile: QFeatures_1.16.0.tar.gz PackageFileSize: 2.945 MiB