Package: QFeatures Version: 1.16.0 Command: /Library/Frameworks/R.framework/Resources/bin/R CMD check --install=check:QFeatures.install-out.txt --library=/Library/Frameworks/R.framework/Resources/library --no-vignettes --timings QFeatures_1.16.0.tar.gz StartedAt: 2025-01-31 08:26:16 -0500 (Fri, 31 Jan 2025) EndedAt: 2025-01-31 08:41:03 -0500 (Fri, 31 Jan 2025) EllapsedTime: 886.7 seconds RetCode: 0 Status: OK CheckDir: QFeatures.Rcheck Warnings: 0