Package: QFeatures Version: 1.16.0 Command: /home/biocbuild/R/R/bin/R CMD build --keep-empty-dirs --no-resave-data QFeatures StartedAt: 2025-01-31 01:55:17 -0000 (Fri, 31 Jan 2025) EndedAt: 2025-01-31 01:57:03 -0000 (Fri, 31 Jan 2025) EllapsedTime: 106.1 seconds RetCode: 0 Status: OK PackageFile: QFeatures_1.16.0.tar.gz PackageFileSize: 2.624 MiB