Package: QSutils Version: 1.24.0 Command: /Library/Frameworks/R.framework/Resources/bin/R CMD check --install=check:QSutils.install-out.txt --library=/Library/Frameworks/R.framework/Resources/library --no-vignettes --timings QSutils_1.24.0.tar.gz StartedAt: 2025-02-18 07:50:36 -0500 (Tue, 18 Feb 2025) EndedAt: 2025-02-18 07:53:21 -0500 (Tue, 18 Feb 2025) EllapsedTime: 165.5 seconds RetCode: 0 Status: OK CheckDir: QSutils.Rcheck Warnings: 0