Package: QSutils Version: 1.24.0 Command: chmod a+r QSutils -R && F:\biocbuild\bbs-3.20-bioc\R\bin\R.exe CMD build --keep-empty-dirs --no-resave-data QSutils StartedAt: 2025-01-30 21:10:09 -0500 (Thu, 30 Jan 2025) EndedAt: 2025-01-30 21:12:37 -0500 (Thu, 30 Jan 2025) EllapsedTime: 147.8 seconds RetCode: 0 Status: OK PackageFile: QSutils_1.24.0.tar.gz PackageFileSize: 1.101 MiB