Package: QSutils Version: 1.24.0 Command: F:\biocbuild\bbs-3.20-bioc\R\bin\R.exe CMD INSTALL QSutils StartedAt: 2025-01-30 15:43:05 -0500 (Thu, 30 Jan 2025) EndedAt: 2025-01-30 15:43:41 -0500 (Thu, 30 Jan 2025) EllapsedTime: 35.6 seconds RetCode: 0 Status: OK