Package: QSutils Version: 1.24.0 Command: /home/biocbuild/R/R/bin/R CMD check --install=check:QSutils.install-out.txt --library=/home/biocbuild/R/R/site-library --no-vignettes --timings QSutils_1.24.0.tar.gz StartedAt: 2025-02-04 10:08:06 -0000 (Tue, 04 Feb 2025) EndedAt: 2025-02-04 10:09:37 -0000 (Tue, 04 Feb 2025) EllapsedTime: 91.1 seconds RetCode: 0 Status: OK CheckDir: QSutils.Rcheck Warnings: 0