Package: QTLExperiment Version: 1.4.0 Command: /Library/Frameworks/R.framework/Resources/bin/R CMD build --keep-empty-dirs --no-resave-data QTLExperiment StartedAt: 2025-02-04 06:00:17 -0500 (Tue, 04 Feb 2025) EndedAt: 2025-02-04 06:01:07 -0500 (Tue, 04 Feb 2025) EllapsedTime: 49.9 seconds RetCode: 0 Status: OK PackageFile: QTLExperiment_1.4.0.tar.gz PackageFileSize: 612.2 KiB