Package: QTLExperiment
Version: 1.4.0
Command: /Library/Frameworks/R.framework/Resources/bin/R CMD check --install=check:QTLExperiment.install-out.txt --library=/Library/Frameworks/R.framework/Resources/library --no-vignettes --timings QTLExperiment_1.4.0.tar.gz
StartedAt: 2024-11-20 01:30:57 -0500 (Wed, 20 Nov 2024)
EndedAt: 2024-11-20 01:37:30 -0500 (Wed, 20 Nov 2024)
EllapsedTime: 392.7 seconds
RetCode: 0
Status: OK
CheckDir: QTLExperiment.Rcheck
Warnings: 0