Package: QTLExperiment Version: 1.4.0 Command: /Library/Frameworks/R.framework/Resources/bin/R CMD INSTALL QTLExperiment StartedAt: 2025-02-03 15:24:39 -0500 (Mon, 03 Feb 2025) EndedAt: 2025-02-03 15:25:36 -0500 (Mon, 03 Feb 2025) EllapsedTime: 56.6 seconds RetCode: 0 Status: OK